<?xml version="1.0" encoding="UTF-8" standalone="no"?>
<metadata xml:lang="en">
<Esri>
<CreaDate>20150128</CreaDate>
<CreaTime>09461100</CreaTime>
<ArcGISFormat>1.0</ArcGISFormat>
<SyncOnce>FALSE</SyncOnce>
<DataProperties>
<lineage>
<Process Date="20150128" Time="094611" ToolSource="c:\program files (x86)\arcgis\desktop10.2\ArcToolbox\Toolboxes\Data Management Tools.tbx\CreateMosaicDataset">CreateMosaicDataset "Database Connections\WDEQ@DBO.sde" NAIP_2006 "PROJCS['WGS_1984_Web_Mercator_Auxiliary_Sphere',GEOGCS['GCS_WGS_1984',DATUM['D_WGS_1984',SPHEROID['WGS_1984',6378137.0,298.257223563]],PRIMEM['Greenwich',0.0],UNIT['Degree',0.0174532925199433]],PROJECTION['Mercator_Auxiliary_Sphere'],PARAMETER['False_Easting',0.0],PARAMETER['False_Northing',0.0],PARAMETER['Central_Meridian',0.0],PARAMETER['Standard_Parallel_1',0.0],PARAMETER['Auxiliary_Sphere_Type',0.0],UNIT['Meter',1.0]];-20037700 -30241100 10000;-100000 10000;-100000 10000;0.001;0.001;0.001;IsHighPrecision" # # NONE #</Process>
<Process Date="20150128" Time="095445" ToolSource="c:\program files (x86)\arcgis\desktop10.2\ArcToolbox\Toolboxes\Data Management Tools.tbx\AddRastersToMosaicDataset">AddRastersToMosaicDataset "Database Connections\WDEQ@DBO.sde\WDEQ_GIS.DBO.NAIP_2006" "Raster Dataset" Z:\Raster\NAIP_2006\Albany_County.sid;Z:\Raster\NAIP_2006\BigHorn_County.sid;Z:\Raster\NAIP_2006\Campbell_County.sid;Z:\Raster\NAIP_2006\Carbon_County_East.sid;Z:\Raster\NAIP_2006\Carbon_County_West.sid;Z:\Raster\NAIP_2006\Converse_County.sid;Z:\Raster\NAIP_2006\Crook_County.sid;Z:\Raster\NAIP_2006\Fremont_County_Central.sid;Z:\Raster\NAIP_2006\Fremont_County_East.sid;Z:\Raster\NAIP_2006\Fremont_County_NW.sid;Z:\Raster\NAIP_2006\Goshen_County.sid;Z:\Raster\NAIP_2006\Hot_Springs_County.sid;Z:\Raster\NAIP_2006\Johnson_County.sid;Z:\Raster\NAIP_2006\Laramie_County.sid;Z:\Raster\NAIP_2006\Lincoln_County.sid;Z:\Raster\NAIP_2006\Natrona_County.sid;Z:\Raster\NAIP_2006\Niobrara_County.sid;Z:\Raster\NAIP_2006\Park_County_East.sid;Z:\Raster\NAIP_2006\Park_County_West.sid;Z:\Raster\NAIP_2006\Platte_County.sid;Z:\Raster\NAIP_2006\Sheridan_County.sid;Z:\Raster\NAIP_2006\Sublette_County.sid;Z:\Raster\NAIP_2006\Sweetwater_Cty_Cent.sid;Z:\Raster\NAIP_2006\Sweetwater_Cty_East.sid;Z:\Raster\NAIP_2006\Sweetwater_Cty_West.sid;Z:\Raster\NAIP_2006\Teton_County.sid;Z:\Raster\NAIP_2006\Uinta_County.sid;Z:\Raster\NAIP_2006\Washakie_County.sid;Z:\Raster\NAIP_2006\Weston_County.sid UPDATE_CELL_SIZES UPDATE_BOUNDARY NO_OVERVIEWS # 0 1500 # # SUBFOLDERS ALLOW_DUPLICATES NO_PYRAMIDS CALCULATE_STATISTICS NO_THUMBNAILS # NO_FORCE_SPATIAL_REFERENCE</Process>
<Process Date="20150128" Time="100501" ToolSource="c:\program files (x86)\arcgis\desktop10.2\ArcToolbox\Toolboxes\Data Management Tools.tbx\BuildFootprints">BuildFootprints "Database Connections\WDEQ@DBO.sde\WDEQ_GIS.DBO.NAIP_2006" # RADIOMETRY 1 255 80 0 NO_MAINTAIN_EDGES SKIP_DERIVED_IMAGES UPDATE_BOUNDARY 2000 100 NONE # 20 0.05</Process>
<Process Date="20150128" Time="101822" ToolSource="c:\program files (x86)\arcgis\desktop10.2\ArcToolbox\Toolboxes\Data Management Tools.tbx\BuildOverviews">BuildOverviews "Database Connections\WDEQ@DBO.sde\WDEQ_GIS.DBO.NAIP_2006" # DEFINE_MISSING_TILES GENERATE_OVERVIEWS GENERATE_MISSING_IMAGES REGENERATE_STALE_IMAGES</Process>
<Process Date="20150128" Time="104352" ToolSource="c:\program files (x86)\arcgis\desktop10.2\ArcToolbox\Toolboxes\Data Management Tools.tbx\BuildSeamlines">BuildSeamlines "Database Connections\WDEQ@DBO.sde\WDEQ_GIS.DBO.NAIP_2006" 1 NORTH_WEST ASCENDING # # # RADIOMETRY # BOTH 1000 PIXELS PIXELS</Process>
</lineage>
<itemProps>
<itemName Sync="TRUE">WDEQ_GIS.DBO.NAIP_2006</itemName>
<itemLocation>
<linkage Sync="TRUE">Server=020-sql2k803.wyores.local; Service=sde:sqlserver:020-sql2k803.wyores.local\gis; Database=WDEQ_GIS; User=sde; Version=dbo.DEFAULT</linkage>
<protocol Sync="TRUE">ArcSDE Connection</protocol>
</itemLocation>
<nativeExtBox>
<westBL Sync="TRUE">-12363988.608200</westBL>
<eastBL Sync="TRUE">-11576547.608200</eastBL>
<southBL Sync="TRUE">5002184.433900</southBL>
<northBL Sync="TRUE">5632145.433900</northBL>
<exTypeCode Sync="TRUE">1</exTypeCode>
</nativeExtBox>
</itemProps>
<coordRef>
<type Sync="TRUE">Projected</type>
<geogcsn Sync="TRUE">GCS_WGS_1984</geogcsn>
<csUnits Sync="TRUE">Linear Unit: Meter (1.000000)</csUnits>
<projcsn Sync="TRUE">WGS_1984_Web_Mercator_Auxiliary_Sphere</projcsn>
<peXml Sync="TRUE">&lt;ProjectedCoordinateSystem xsi:type='typens:ProjectedCoordinateSystem' xmlns:xsi='http://www.w3.org/2001/XMLSchema-instance' xmlns:xs='http://www.w3.org/2001/XMLSchema' xmlns:typens='http://www.esri.com/schemas/ArcGIS/10.3'&gt;&lt;WKT&gt;PROJCS[&amp;quot;WGS_1984_Web_Mercator_Auxiliary_Sphere&amp;quot;,GEOGCS[&amp;quot;GCS_WGS_1984&amp;quot;,DATUM[&amp;quot;D_WGS_1984&amp;quot;,SPHEROID[&amp;quot;WGS_1984&amp;quot;,6378137.0,298.257223563]],PRIMEM[&amp;quot;Greenwich&amp;quot;,0.0],UNIT[&amp;quot;Degree&amp;quot;,0.0174532925199433]],PROJECTION[&amp;quot;Mercator_Auxiliary_Sphere&amp;quot;],PARAMETER[&amp;quot;False_Easting&amp;quot;,0.0],PARAMETER[&amp;quot;False_Northing&amp;quot;,0.0],PARAMETER[&amp;quot;Central_Meridian&amp;quot;,0.0],PARAMETER[&amp;quot;Standard_Parallel_1&amp;quot;,0.0],PARAMETER[&amp;quot;Auxiliary_Sphere_Type&amp;quot;,0.0],UNIT[&amp;quot;Meter&amp;quot;,1.0],AUTHORITY[&amp;quot;EPSG&amp;quot;,3857]]&lt;/WKT&gt;&lt;XOrigin&gt;-20037700&lt;/XOrigin&gt;&lt;YOrigin&gt;-30241100&lt;/YOrigin&gt;&lt;XYScale&gt;148923141.92838538&lt;/XYScale&gt;&lt;ZOrigin&gt;-100000&lt;/ZOrigin&gt;&lt;ZScale&gt;10000&lt;/ZScale&gt;&lt;MOrigin&gt;-100000&lt;/MOrigin&gt;&lt;MScale&gt;10000&lt;/MScale&gt;&lt;XYTolerance&gt;0.001&lt;/XYTolerance&gt;&lt;ZTolerance&gt;0.001&lt;/ZTolerance&gt;&lt;MTolerance&gt;0.001&lt;/MTolerance&gt;&lt;HighPrecision&gt;true&lt;/HighPrecision&gt;&lt;WKID&gt;102100&lt;/WKID&gt;&lt;LatestWKID&gt;3857&lt;/LatestWKID&gt;&lt;/ProjectedCoordinateSystem&gt;</peXml>
</coordRef>
<RasterProperties>
<General>
<PixelDepth Sync="TRUE">8</PixelDepth>
<HasColormap Sync="TRUE">FALSE</HasColormap>
<CompressionType Sync="TRUE">None</CompressionType>
<NumBands Sync="TRUE">3</NumBands>
<Format Sync="TRUE">AMD</Format>
<HasPyramids Sync="TRUE">TRUE</HasPyramids>
<SourceType Sync="TRUE">continuous</SourceType>
<PixelType Sync="TRUE">unsigned integer</PixelType>
<NoDataValue Sync="TRUE"/>
</General>
<Properties>
<MaxImageHeight Sync="TRUE">4100</MaxImageHeight>
<MaxImageWidth Sync="TRUE">15000</MaxImageWidth>
<MaxRecordCount Sync="TRUE">1000</MaxRecordCount>
<MaxDownloadImageCount Sync="TRUE">20</MaxDownloadImageCount>
<MaxDownloadSizeLimit Sync="TRUE">2048</MaxDownloadSizeLimit>
<MaxMosaicImageCount Sync="TRUE">20</MaxMosaicImageCount>
<DefaultCompressionQuality Sync="TRUE">75</DefaultCompressionQuality>
<DefaultCompressionTolerance Sync="TRUE">0.01</DefaultCompressionTolerance>
<BlendWidth Sync="TRUE">10</BlendWidth>
<ViewpointSpacingX Sync="TRUE">600</ViewpointSpacingX>
<ViewpointSpacingY Sync="TRUE">300</ViewpointSpacingY>
<AllowedItemMetadata Sync="TRUE">Basic</AllowedItemMetadata>
<DefaultResamplingMethod Sync="TRUE">1</DefaultResamplingMethod>
<AllowedMosaicMethods Sync="TRUE">Seamline,NorthWest,Center,LockRaster,ByAttribute,Nadir,Viewpoint,None</AllowedMosaicMethods>
<AllowedCompressions Sync="TRUE">None,JPEG,LZ77,LERC</AllowedCompressions>
<AllowedMensurationCapabilities Sync="TRUE">None</AllowedMensurationCapabilities>
<AvailableMensurationCapabilities Sync="TRUE">None,Basic,Base-Top Height,Top-Top Shadow Height,Base-Top Shadow Height,3D</AvailableMensurationCapabilities>
<ClipToBoundary Sync="TRUE">-1</ClipToBoundary>
<FootprintMayContainNoData Sync="TRUE">-1</FootprintMayContainNoData>
<CellSizeTolerance Sync="TRUE">0.8</CellSizeTolerance>
<MinimumPixelContribution Sync="TRUE">1</MinimumPixelContribution>
<AvailableMosaicMethods Sync="TRUE">NorthWest,Center,LockRaster,ByAttribute,Nadir,Viewpoint,Seamline,None</AvailableMosaicMethods>
<AvailableCompressionMethods Sync="TRUE">None,JPEG,LZ77,LERC</AvailableCompressionMethods>
<AvailableItemMetadataLevels Sync="TRUE">None,Basic,Full</AvailableItemMetadataLevels>
<ConfigKeyword Sync="TRUE"/>
<BandDefinitionKeyword Sync="TRUE">NONE</BandDefinitionKeyword>
<AllowedFields Sync="TRUE">Name,MinPS,MaxPS,LowPS,HighPS,Tag,GroupName,ProductName,CenterX,CenterY,ZOrder,Shape.STArea(),Shape.STLength(),SOrder,SLevelPS</AllowedFields>
<MaxCellSize Sync="TRUE">259200</MaxCellSize>
<LowCellSize Sync="TRUE">1</LowCellSize>
<HighCellSize Sync="TRUE">5184</HighCellSize>
<ClipToFootprint Sync="TRUE">-1</ClipToFootprint>
</Properties>
<Functions Sync="TRUE">
<Function Description="Performs on-the-fly mosaic on a raster catalog." Name="Mosaic Function"/>
</Functions>
</RasterProperties>
</DataProperties>
<SyncDate>20160301</SyncDate>
<SyncTime>09220400</SyncTime>
<ModDate>20160301</ModDate>
<ModTime>09220400</ModTime>
</Esri>
<dataIdInfo>
<envirDesc Sync="TRUE">Microsoft Windows 7 Version 6.1 (Build 7601) Service Pack 1; Esri ArcGIS 10.3.0.4322</envirDesc>
<dataLang>
<languageCode Sync="TRUE" value="eng"/>
<countryCode Sync="TRUE" value="USA"/>
</dataLang>
<idCitation>
<resTitle Sync="TRUE">NAIP_2006</resTitle>
<presForm>
<PresFormCd Sync="TRUE" value="005"/>
</presForm>
</idCitation>
<spatRpType>
<SpatRepTypCd Sync="TRUE" value="002"/>
</spatRpType>
<dataExt>
<geoEle>
<GeoBndBox esriExtentType="search">
<exTypeCode Sync="TRUE">1</exTypeCode>
<westBL Sync="TRUE">-111.067599</westBL>
<eastBL Sync="TRUE">-103.993897</eastBL>
<northBL Sync="TRUE">45.067444</northBL>
<southBL Sync="TRUE">40.931101</southBL>
</GeoBndBox>
</geoEle>
</dataExt>
<idAbs/>
<searchKeys>
<keyword>wdeq</keyword>
<keyword>image service</keyword>
<keyword>2006 NAIP</keyword>
</searchKeys>
<idPurp>Image service of the 2006 NAIP imagery.</idPurp>
<idCredit/>
<resConst>
<Consts>
<useLimit/>
</Consts>
</resConst>
</dataIdInfo>
<mdLang>
<languageCode Sync="TRUE" value="eng"/>
<countryCode Sync="TRUE" value="USA"/>
</mdLang>
<refSysInfo>
<RefSystem>
<refSysID>
<identCode Sync="TRUE" code="3857"/>
<idCodeSpace Sync="TRUE">EPSG</idCodeSpace>
<idVersion Sync="TRUE">8.2.6</idVersion>
</refSysID>
</RefSystem>
</refSysInfo>
<spatRepInfo>
<Georect>
<cellGeo>
<CellGeoCd Sync="TRUE" value="002"/>
</cellGeo>
<numDims Sync="TRUE">2</numDims>
<tranParaAv Sync="TRUE">1</tranParaAv>
<chkPtAv Sync="TRUE">0</chkPtAv>
<cornerPts>
<pos Sync="TRUE">-12363988.608200 5002184.433900</pos>
</cornerPts>
<cornerPts>
<pos Sync="TRUE">-12363988.608200 5632145.433900</pos>
</cornerPts>
<cornerPts>
<pos Sync="TRUE">-11576547.608200 5632145.433900</pos>
</cornerPts>
<cornerPts>
<pos Sync="TRUE">-11576547.608200 5002184.433900</pos>
</cornerPts>
<centerPt>
<pos Sync="TRUE">-11970268.108200 5317164.933900</pos>
</centerPt>
<axisDimension type="002">
<dimSize Sync="TRUE">787441</dimSize>
<dimResol>
<value Sync="TRUE">1.000000</value>
</dimResol>
</axisDimension>
<axisDimension type="001">
<dimSize Sync="TRUE">629961</dimSize>
<dimResol>
<value Sync="TRUE">1.000000</value>
</dimResol>
</axisDimension>
<ptInPixel>
<PixOrientCd Sync="TRUE" value="001"/>
</ptInPixel>
</Georect>
</spatRepInfo>
<contInfo>
<ImgDesc>
<contentTyp>
<ContentTypCd Sync="TRUE" value="001"/>
</contentTyp>
<covDim>
<Band>
<dimDescrp Sync="TRUE">Band_1</dimDescrp>
<maxVal Sync="TRUE">255.000000</maxVal>
<minVal Sync="TRUE">0.000000</minVal>
<bitsPerVal Sync="TRUE">8</bitsPerVal>
</Band>
<Band>
<dimDescrp Sync="TRUE">Band_2</dimDescrp>
<maxVal Sync="TRUE">255.000000</maxVal>
<minVal Sync="TRUE">0.000000</minVal>
<bitsPerVal Sync="TRUE">8</bitsPerVal>
</Band>
<Band>
<dimDescrp Sync="TRUE">Band_3</dimDescrp>
<maxVal Sync="TRUE">230.000000</maxVal>
<minVal Sync="TRUE">0.000000</minVal>
<bitsPerVal Sync="TRUE">8</bitsPerVal>
</Band>
</covDim>
</ImgDesc>
</contInfo>
<mdDateSt Sync="TRUE">20160301</mdDateSt>
</metadata>
