<?xml version="1.0" encoding="UTF-8" standalone="no"?>
<metadata xml:lang="en">
<Esri>
<CreaDate>20160321</CreaDate>
<CreaTime>13193000</CreaTime>
<ArcGISFormat>1.0</ArcGISFormat>
<SyncOnce>FALSE</SyncOnce>
<DataProperties>
<lineage>
<Process Date="20150128" Name="" Time="112258" ToolSource="c:\program files (x86)\arcgis\desktop10.2\ArcToolbox\Toolboxes\Data Management Tools.tbx\CreateMosaicDataset" export="">CreateMosaicDataset "Database Connections\WDEQ@DBO.sde" NAIP_2009 "PROJCS['WGS_1984_Web_Mercator_Auxiliary_Sphere',GEOGCS['GCS_WGS_1984',DATUM['D_WGS_1984',SPHEROID['WGS_1984',6378137.0,298.257223563]],PRIMEM['Greenwich',0.0],UNIT['Degree',0.0174532925199433]],PROJECTION['Mercator_Auxiliary_Sphere'],PARAMETER['False_Easting',0.0],PARAMETER['False_Northing',0.0],PARAMETER['Central_Meridian',0.0],PARAMETER['Standard_Parallel_1',0.0],PARAMETER['Auxiliary_Sphere_Type',0.0],UNIT['Meter',1.0]];-20037700 -30241100 10000;-100000 10000;-100000 10000;0.001;0.001;0.001;IsHighPrecision" # # NONE #</Process>
<Process Date="20150128" Name="" Time="112631" ToolSource="c:\program files (x86)\arcgis\desktop10.2\ArcToolbox\Toolboxes\Data Management Tools.tbx\AddRastersToMosaicDataset" export="">AddRastersToMosaicDataset "Database Connections\WDEQ@DBO.sde\WDEQ_GIS.DBO.NAIP_2009" "Raster Dataset" Z:\Raster\FSA_NAIP_2009_13\Carbon_2009_NAIP_East.sid;Z:\Raster\FSA_NAIP_2009_13\Carbon_2009_NAIP_West.sid;Z:\Raster\FSA_NAIP_2009_13\Converse_2009_NAIP.sid;Z:\Raster\FSA_NAIP_2009_13\Crook_2009_NAIP.sid;Z:\Raster\FSA_NAIP_2009_13\HotSprings_2009_NAIP.sid;Z:\Raster\FSA_NAIP_2009_13\Natrona_2009_NAIP.sid;Z:\Raster\FSA_NAIP_2009_13\ortho_1-1_1n_s_wy001_2009_1.sid;Z:\Raster\FSA_NAIP_2009_13\ortho_1-1_1n_s_wy003_2009_1.sid;Z:\Raster\FSA_NAIP_2009_13\ortho_1-1_1n_s_wy005_2009_1.sid;Z:\Raster\FSA_NAIP_2009_13\ortho_1-1_1n_s_wy015_2009_1.sid;Z:\Raster\FSA_NAIP_2009_13\ortho_1-1_1n_s_wy019_2009_2.sid;Z:\Raster\FSA_NAIP_2009_13\ortho_1-1_1n_s_wy021_2009_1.sid;Z:\Raster\FSA_NAIP_2009_13\ortho_1-1_1n_s_wy027_2009_1.sid;Z:\Raster\FSA_NAIP_2009_13\ortho_1-1_1n_s_wy031_2009_1.sid;Z:\Raster\FSA_NAIP_2009_13\ortho_1-1_1n_s_wy033_2009_1.sid;Z:\Raster\FSA_NAIP_2009_13\ortho_1-2_1n_s_wy023_2009_1.sid;Z:\Raster\FSA_NAIP_2009_13\ortho_2-2_1n_s_wy023_2009_1.sid;Z:\Raster\FSA_NAIP_2009_13\Washakie_2009_NAIP.sid;Z:\Raster\FSA_NAIP_2009_13\Weston_2009_NAIP.sid;Z:\Raster\FSA_NAIP_2009_12\Fremont_2009_NAIP_East.sid;Z:\Raster\FSA_NAIP_2009_12\Fremont_2009_NAIP_West.sid;Z:\Raster\FSA_NAIP_2009_12\Park_2009_NAIP_East.sid;Z:\Raster\FSA_NAIP_2009_12\Park_2009_NAIP_West.sid;Z:\Raster\FSA_NAIP_2009_12\Sublette_2009_NAIP_East.sid;Z:\Raster\FSA_NAIP_2009_12\Sublette_2009_NAIP_West.sid;Z:\Raster\FSA_NAIP_2009_12\Sweetwater_2009_NAIP_East.sid;Z:\Raster\FSA_NAIP_2009_12\Sweetwater_2009_NAIP_West.sid;Z:\Raster\FSA_NAIP_2009_12\Teton_2009_NAIP.sid;Z:\Raster\FSA_NAIP_2009_12\Uinta_2009_NAIP.sid UPDATE_CELL_SIZES UPDATE_BOUNDARY NO_OVERVIEWS # 0 1500 # # SUBFOLDERS ALLOW_DUPLICATES BUILD_PYRAMIDS CALCULATE_STATISTICS NO_THUMBNAILS # NO_FORCE_SPATIAL_REFERENCE</Process>
<Process Date="20150128" Name="" Time="113336" ToolSource="c:\program files (x86)\arcgis\desktop10.2\ArcToolbox\Toolboxes\Data Management Tools.tbx\BuildFootprints" export="">BuildFootprints "Database Connections\WDEQ@DBO.sde\WDEQ_GIS.DBO.NAIP_2009" # RADIOMETRY 1 255 80 0 NO_MAINTAIN_EDGES SKIP_DERIVED_IMAGES UPDATE_BOUNDARY 2000 100 NONE # 20 0.05</Process>
<Process Date="20150128" Name="" Time="113849" ToolSource="c:\program files (x86)\arcgis\desktop10.2\ArcToolbox\Toolboxes\Data Management Tools.tbx\BuildOverviews" export="">BuildOverviews "Database Connections\WDEQ@DBO.sde\WDEQ_GIS.DBO.NAIP_2009" # NO_DEFINE_MISSING_TILES GENERATE_OVERVIEWS GENERATE_MISSING_IMAGES IGNORE_STALE_IMAGES</Process>
<Process Date="20150128" Name="" Time="115217" ToolSource="c:\program files (x86)\arcgis\desktop10.2\ArcToolbox\Toolboxes\Data Management Tools.tbx\BuildOverviews" export="">BuildOverviews "Database Connections\WDEQ@DBO.sde\WDEQ_GIS.DBO.NAIP_2009" # DEFINE_MISSING_TILES GENERATE_OVERVIEWS GENERATE_MISSING_IMAGES REGENERATE_STALE_IMAGES</Process>
</lineage>
<itemProps>
<itemLocation>
<linkage Sync="TRUE">Server=WyoGXSQL17a.wyores.local; Service=sde:sqlserver:WyoGXSQL17a.wyores.local; Database=WDEQ_GIS; User=sde; Version=dbo.DEFAULT</linkage>
<protocol Sync="TRUE">ArcSDE Connection</protocol>
</itemLocation>
<itemName Sync="TRUE">WDEQ_GIS.DBO.NAIP_2015</itemName>
<nativeExtBox>
<westBL Sync="TRUE">-12364039.000000</westBL>
<eastBL Sync="TRUE">-11576472.500000</eastBL>
<southBL Sync="TRUE">5002184.500000</southBL>
<northBL Sync="TRUE">5632130.000000</northBL>
<exTypeCode Sync="TRUE">1</exTypeCode>
</nativeExtBox>
<imsContentType export="False"/>
</itemProps>
<coordRef>
<type Sync="TRUE">Projected</type>
<geogcsn Sync="TRUE">GCS_WGS_1984</geogcsn>
<csUnits Sync="TRUE">Linear Unit: Meter (1.000000)</csUnits>
<projcsn Sync="TRUE">WGS_1984_Web_Mercator_Auxiliary_Sphere</projcsn>
<peXml Sync="TRUE">&lt;ProjectedCoordinateSystem xsi:type='typens:ProjectedCoordinateSystem' xmlns:xsi='http://www.w3.org/2001/XMLSchema-instance' xmlns:xs='http://www.w3.org/2001/XMLSchema' xmlns:typens='http://www.esri.com/schemas/ArcGIS/10.5'&gt;&lt;WKT&gt;PROJCS[&amp;quot;WGS_1984_Web_Mercator_Auxiliary_Sphere&amp;quot;,GEOGCS[&amp;quot;GCS_WGS_1984&amp;quot;,DATUM[&amp;quot;D_WGS_1984&amp;quot;,SPHEROID[&amp;quot;WGS_1984&amp;quot;,6378137.0,298.257223563]],PRIMEM[&amp;quot;Greenwich&amp;quot;,0.0],UNIT[&amp;quot;Degree&amp;quot;,0.0174532925199433]],PROJECTION[&amp;quot;Mercator_Auxiliary_Sphere&amp;quot;],PARAMETER[&amp;quot;False_Easting&amp;quot;,0.0],PARAMETER[&amp;quot;False_Northing&amp;quot;,0.0],PARAMETER[&amp;quot;Central_Meridian&amp;quot;,0.0],PARAMETER[&amp;quot;Standard_Parallel_1&amp;quot;,0.0],PARAMETER[&amp;quot;Auxiliary_Sphere_Type&amp;quot;,0.0],UNIT[&amp;quot;Meter&amp;quot;,1.0],AUTHORITY[&amp;quot;EPSG&amp;quot;,3857]]&lt;/WKT&gt;&lt;XOrigin&gt;-20037700&lt;/XOrigin&gt;&lt;YOrigin&gt;-30241100&lt;/YOrigin&gt;&lt;XYScale&gt;148923141.92838538&lt;/XYScale&gt;&lt;ZOrigin&gt;-100000&lt;/ZOrigin&gt;&lt;ZScale&gt;10000&lt;/ZScale&gt;&lt;MOrigin&gt;-100000&lt;/MOrigin&gt;&lt;MScale&gt;10000&lt;/MScale&gt;&lt;XYTolerance&gt;0.001&lt;/XYTolerance&gt;&lt;ZTolerance&gt;0.001&lt;/ZTolerance&gt;&lt;MTolerance&gt;0.001&lt;/MTolerance&gt;&lt;HighPrecision&gt;true&lt;/HighPrecision&gt;&lt;WKID&gt;102100&lt;/WKID&gt;&lt;LatestWKID&gt;3857&lt;/LatestWKID&gt;&lt;/ProjectedCoordinateSystem&gt;</peXml>
</coordRef>
<RasterProperties>
<General>
<PixelDepth Sync="TRUE">8</PixelDepth>
<HasColormap Sync="TRUE">FALSE</HasColormap>
<CompressionType Sync="TRUE">None</CompressionType>
<NumBands Sync="TRUE">3</NumBands>
<Format Sync="TRUE">AMD</Format>
<HasPyramids Sync="TRUE">TRUE</HasPyramids>
<SourceType Sync="TRUE">continuous</SourceType>
<PixelType Sync="TRUE">unsigned integer</PixelType>
<NoDataValue Sync="TRUE"/>
</General>
<Properties>
<MaxImageHeight Sync="TRUE">4100</MaxImageHeight>
<MaxImageWidth Sync="TRUE">15000</MaxImageWidth>
<MaxRecordCount Sync="TRUE">1000</MaxRecordCount>
<MaxDownloadImageCount Sync="TRUE">20</MaxDownloadImageCount>
<MaxDownloadSizeLimit Sync="TRUE">2048</MaxDownloadSizeLimit>
<MaxMosaicImageCount Sync="TRUE">20</MaxMosaicImageCount>
<DefaultCompressionQuality Sync="TRUE">75</DefaultCompressionQuality>
<DefaultCompressionTolerance Sync="TRUE">0.01</DefaultCompressionTolerance>
<BlendWidth Sync="TRUE">10</BlendWidth>
<ViewpointSpacingX Sync="TRUE">600</ViewpointSpacingX>
<ViewpointSpacingY Sync="TRUE">300</ViewpointSpacingY>
<AllowedItemMetadata Sync="TRUE">Basic</AllowedItemMetadata>
<DefaultResamplingMethod Sync="TRUE">1</DefaultResamplingMethod>
<AllowedMosaicMethods Sync="TRUE">NorthWest,Center,LockRaster,ByAttribute,Nadir,Viewpoint,Seamline,None</AllowedMosaicMethods>
<AllowedCompressions Sync="TRUE">None,JPEG,LZ77,LERC</AllowedCompressions>
<AllowedMensurationCapabilities Sync="TRUE">None</AllowedMensurationCapabilities>
<AvailableMensurationCapabilities Sync="TRUE">None,Basic,Base-Top Height,Top-Top Shadow Height,Base-Top Shadow Height,3D</AvailableMensurationCapabilities>
<ClipToBoundary Sync="TRUE">-1</ClipToBoundary>
<FootprintMayContainNoData Sync="TRUE">-1</FootprintMayContainNoData>
<CellSizeTolerance Sync="TRUE">0.8</CellSizeTolerance>
<MinimumPixelContribution Sync="TRUE">1</MinimumPixelContribution>
<AvailableMosaicMethods Sync="TRUE">NorthWest,Center,LockRaster,ByAttribute,Nadir,Viewpoint,Seamline,None</AvailableMosaicMethods>
<AvailableCompressionMethods Sync="TRUE">None,JPEG,LZ77,LERC</AvailableCompressionMethods>
<AvailableItemMetadataLevels Sync="TRUE">None,Basic,Full</AvailableItemMetadataLevels>
<ConfigKeyword Sync="TRUE"/>
<BandDefinitionKeyword Sync="TRUE">NONE</BandDefinitionKeyword>
<AllowedFields Sync="TRUE">Name,MinPS,MaxPS,LowPS,HighPS,Tag,GroupName,ProductName,CenterX,CenterY,ZOrder,Shape.STArea(),Shape.STLength()</AllowedFields>
<MaxCellSize Sync="TRUE">259200</MaxCellSize>
<LowCellSize Sync="TRUE">0.5</LowCellSize>
<HighCellSize Sync="TRUE">5184</HighCellSize>
<ClipToFootprint Sync="TRUE">-1</ClipToFootprint>
<TimeStamp.RemoveItems Sync="TRUE">42458.7697052778</TimeStamp.RemoveItems>
<TimeStamp.UpdateExtent Sync="TRUE">42458.7751962153</TimeStamp.UpdateExtent>
</Properties>
<Functions Sync="TRUE">
<Function Description="Performs on-the-fly mosaic on a raster catalog." Name="Mosaic Function"/>
</Functions>
</RasterProperties>
</DataProperties>
<ArcGISstyle>ISO 19139 Metadata Implementation Specification</ArcGISstyle>
<SyncDate>20181107</SyncDate>
<SyncTime>08391200</SyncTime>
<ModDate>20181107</ModDate>
<ModTime>08391200</ModTime>
<scaleRange>
<minScale>150000000</minScale>
<maxScale>5000</maxScale>
</scaleRange>
<ArcGISProfile>ISO19139</ArcGISProfile>
</Esri>
<dataIdInfo>
<envirDesc Sync="TRUE">Microsoft Windows 7 Version 6.1 (Build 7601) Service Pack 1; Esri ArcGIS 10.5.0.6491</envirDesc>
<dataLang>
<languageCode Sync="TRUE" value="eng"/>
<countryCode Sync="TRUE" value="USA"/>
</dataLang>
<idCitation>
<resTitle Sync="FALSE">NAIP_2015</resTitle>
<presForm>
<PresFormCd Sync="TRUE" value="005"/>
</presForm>
<date>
<createDate>2016-03-01T00:00:00</createDate>
<pubDate>2016-03-15T00:00:00</pubDate>
</date>
<resEd>First</resEd>
<resEdDate>20160315</resEdDate>
</idCitation>
<spatRpType>
<SpatRepTypCd Sync="TRUE" value="002"/>
</spatRpType>
<dataExt>
<geoEle>
<GeoBndBox esriExtentType="search">
<exTypeCode Sync="TRUE">1</exTypeCode>
<westBL Sync="TRUE">-111.068052</westBL>
<eastBL Sync="TRUE">-103.993222</eastBL>
<northBL Sync="TRUE">45.067346</northBL>
<southBL Sync="TRUE">40.931102</southBL>
</GeoBndBox>
</geoEle>
</dataExt>
<idAbs>&lt;DIV STYLE="text-align:Left;"&gt;&lt;DIV&gt;&lt;P&gt;&lt;SPAN&gt;The NAIP_2015 Image Service displays the NAIP imagery for the state of Wyoming. This imagery is half meter resolution, it is 4 band, and will include a first return point cloud, and bare earth DEM.&lt;/SPAN&gt;&lt;/P&gt;&lt;/DIV&gt;&lt;/DIV&gt;</idAbs>
<idCredit>USDA FSA, BLM</idCredit>
<searchKeys>
<keyword>NAIP</keyword>
<keyword>USDA</keyword>
<keyword>FSA</keyword>
<keyword>NRCS</keyword>
<keyword>Image Service</keyword>
<keyword>half meter resolution</keyword>
<keyword>2015</keyword>
</searchKeys>
<tpCat>
<TopicCatCd value="001"/>
</tpCat>
<tpCat>
<TopicCatCd value="002"/>
</tpCat>
<tpCat>
<TopicCatCd value="006"/>
</tpCat>
<tpCat>
<TopicCatCd value="007"/>
</tpCat>
<tpCat>
<TopicCatCd value="010"/>
</tpCat>
<tpCat>
<TopicCatCd value="012"/>
</tpCat>
<tpCat>
<TopicCatCd value="013"/>
</tpCat>
<idPurp>Image service of the 2015 NAIP imagery.</idPurp>
<resConst>
<Consts>
<useLimit/>
</Consts>
</resConst>
</dataIdInfo>
<mdLang>
<languageCode Sync="TRUE" value="eng"/>
<countryCode Sync="TRUE" value="USA"/>
</mdLang>
<refSysInfo>
<RefSystem>
<refSysID>
<identCode Sync="TRUE" code="3857"/>
<idCodeSpace Sync="TRUE">EPSG</idCodeSpace>
<idVersion Sync="TRUE">8.8(9.3.1.2)</idVersion>
</refSysID>
</RefSystem>
</refSysInfo>
<spatRepInfo>
<Georect>
<cellGeo>
<CellGeoCd Sync="TRUE" value="002"/>
</cellGeo>
<numDims Sync="TRUE">2</numDims>
<tranParaAv Sync="TRUE">1</tranParaAv>
<chkPtAv Sync="TRUE">0</chkPtAv>
<cornerPts>
<pos Sync="TRUE">-12364039.000000 5002184.500000</pos>
</cornerPts>
<cornerPts>
<pos Sync="TRUE">-12364039.000000 5632130.000000</pos>
</cornerPts>
<cornerPts>
<pos Sync="TRUE">-11576472.500000 5632130.000000</pos>
</cornerPts>
<cornerPts>
<pos Sync="TRUE">-11576472.500000 5002184.500000</pos>
</cornerPts>
<centerPt>
<pos Sync="TRUE">-11970255.750000 5317157.250000</pos>
</centerPt>
<axisDimension type="002">
<dimSize Sync="TRUE">1575133</dimSize>
<dimResol>
<value Sync="TRUE" uom="m">0.500000</value>
</dimResol>
</axisDimension>
<axisDimension type="001">
<dimSize Sync="TRUE">1259891</dimSize>
<dimResol>
<value Sync="TRUE" uom="m">0.500000</value>
</dimResol>
</axisDimension>
<ptInPixel>
<PixOrientCd Sync="TRUE" value="001"/>
</ptInPixel>
</Georect>
</spatRepInfo>
<contInfo>
<ImgDesc>
<contentTyp>
<ContentTypCd Sync="TRUE" value="001"/>
</contentTyp>
<covDim>
<Band>
<dimDescrp Sync="TRUE">Band_1</dimDescrp>
<maxVal Sync="TRUE">255.000000</maxVal>
<minVal Sync="TRUE">0.000000</minVal>
<bitsPerVal Sync="TRUE">8</bitsPerVal>
<valUnit>
<UOM gmlID="" type="length">
<unitSymbol>m</unitSymbol>
</UOM>
</valUnit>
</Band>
<Band>
<dimDescrp Sync="TRUE">Band_2</dimDescrp>
<maxVal Sync="TRUE">255.000000</maxVal>
<minVal Sync="TRUE">0.000000</minVal>
<bitsPerVal Sync="TRUE">8</bitsPerVal>
<valUnit>
<UOM gmlID="" type="length">
<unitSymbol>m</unitSymbol>
</UOM>
</valUnit>
</Band>
<Band>
<dimDescrp Sync="TRUE">Band_3</dimDescrp>
<maxVal Sync="TRUE">255.000000</maxVal>
<minVal Sync="TRUE">0.000000</minVal>
<bitsPerVal Sync="TRUE">8</bitsPerVal>
<valUnit>
<UOM gmlID="" type="length">
<unitSymbol>m</unitSymbol>
</UOM>
</valUnit>
</Band>
</covDim>
<trianInd>False</trianInd>
<radCalDatAv>False</radCalDatAv>
<camCalInAv>False</camCalInAv>
<filmDistInAv>False</filmDistInAv>
<lensDistInAv>False</lensDistInAv>
</ImgDesc>
</contInfo>
<mdDateSt Sync="TRUE">20181107</mdDateSt>
<mdHrLv>
<ScopeCd value="005"/>
</mdHrLv>
<mdContact>
<editorSource>external</editorSource>
<editorDigest>eb2cbb5381e04344cb02e8dfabc1e731</editorDigest>
<rpIndName>Chad Kopplin</rpIndName>
<rpOrgName>State of Wyoming Department of Environmental Quality</rpOrgName>
<rpPosName>GIS Manager</rpPosName>
<editorSave>True</editorSave>
<displayName>Chad Kopplin</displayName>
<role>
<RoleCd value="010"/>
</role>
</mdContact>
</metadata>
