<?xml version="1.0" encoding="UTF-8" standalone="no"?>
<metadata>
<idinfo>
<citation>
<citeinfo>
<origin>Wyoming Water Resources Center</origin>
<pubdate>1998</pubdate>
<title Sync="TRUE">WDEQ.SDE.gw_sens</title>
<geoform Sync="TRUE">SDE raster digital data</geoform>
<pubinfo>
<pubplace>Laramie, Wyoming</pubplace>
<publish>UW Spatial Data and Visualization Center</publish>
</pubinfo>
<ftname Sync="TRUE">WDEQ.SDE.gw_sens</ftname>
<onlink Sync="TRUE">Server=159.238.120.157; Service=5151; Database=WDEQ; User=SDE; Version=SDE.UPDATE</onlink>
</citeinfo>
</citation>
<descript>
<abstract/>
<langdata Sync="TRUE">en</langdata>
<purpose>REQUIRED: A summary of the intentions with which the data set was developed.</purpose>
</descript>
<native Sync="TRUE">Microsoft Windows 2000 Version 5.2 (Build 3790) Service Pack 2; ESRI ArcCatalog 9.3.1.3000</native>
<timeperd>
<current>REQUIRED: The basis on which the time period of content information is determined.</current>
<timeinfo>
<sngdate>
<caldate>REQUIRED: The year (and optionally month, or month and day) for which the data set corresponds to the ground.</caldate>
</sngdate>
</timeinfo>
</timeperd>
<status>
<progress>REQUIRED: The state of the data set.</progress>
<update>REQUIRED: The frequency with which changes and additions are made to the data set after the initial data set is completed.</update>
</status>
<spdom>
<bounding>
<westbc Sync="TRUE">-111.271351</westbc>
<eastbc Sync="TRUE">-103.833412</eastbc>
<northbc Sync="TRUE">45.053377</northbc>
<southbc Sync="TRUE">40.945851</southbc>
</bounding>
<lboundng>
<leftbc Sync="TRUE">-297283.625184</leftbc>
<rightbc Sync="TRUE">289016.374816</rightbc>
<bottombc Sync="TRUE">-178.152429</bottombc>
<topbc Sync="TRUE">449021.847571</topbc>
</lboundng>
</spdom>
<keywords>
<theme>
<themekt>REQUIRED: Reference to a formally registered thesaurus or a similar authoritative source of theme keywords.</themekt>
<themekey>REQUIRED: Common-use word or phrase used to describe the subject of the data set.</themekey>
</theme>
</keywords>
<accconst>REQUIRED: Restrictions and legal prerequisites for accessing the data set.</accconst>
<useconst>REQUIRED: Restrictions and legal prerequisites for using the data set after access is granted.</useconst>
<natvform Sync="TRUE">SDE Raster Dataset</natvform>
</idinfo>
<dataqual>
<attracc>
<attraccr>see Ground Water Vulnerability Assessment Handbook</attraccr>
<qattracc>
<attraccv/>
<attracce>see Ground Water Vulnerability Assessment Handbook</attracce>
</qattracc>
</attracc>
<logic>does not apply for raster data</logic>
<complete>All cells within the State of Wyoming are attributed.</complete>
<posacc>
<horizpa>
<horizpar>see Ground Water Vulnerability Assessment Handbook</horizpar>
</horizpa>
</posacc>
<lineage>
<srcinfo>
<srccite>
<citeinfo>
<origin/>
<pubdate/>
<title/>
</citeinfo>
</srccite>
<srcscale/>
<typesrc/>
<srctime>
<timeinfo>
<sngdate>
<caldate/>
</sngdate>
</timeinfo>
<srccurr/>
</srctime>
<srccitea>-</srccitea>
<srccontr/>
</srcinfo>
<procstep>
<procdesc>see Ground Water Vulnerability Assessment Handbook</procdesc>
<procdate/>
</procstep>
</lineage>
</dataqual>
<eainfo>
<overview>
<eaover/>
<eadetcit/>
</overview>
<detailed Name="WDEQ.SDE.SDE_VAT_8">
<enttyp>
<enttypl Sync="TRUE">WDEQ.SDE.SDE_VAT_8</enttypl>
<enttypt Sync="TRUE">Table</enttypt>
<enttypc Sync="TRUE">52</enttypc>
</enttyp>
<attr>
<attrlabl Sync="TRUE">ObjectID</attrlabl>
<attalias Sync="TRUE">OBJECTID</attalias>
<attrtype Sync="TRUE">OID</attrtype>
<attwidth Sync="TRUE">4</attwidth>
<atprecis Sync="TRUE">10</atprecis>
<attscale Sync="TRUE">0</attscale>
<attrdef Sync="TRUE">Internal feature number.</attrdef>
<attrdefs Sync="TRUE">ESRI</attrdefs>
<attrdomv>
<udom Sync="TRUE">Sequential unique whole numbers that are automatically generated.</udom>
</attrdomv>
</attr>
<attr>
<attrlabl Sync="TRUE">Value</attrlabl>
<attalias Sync="TRUE">VALUE</attalias>
<attrtype Sync="TRUE">Integer</attrtype>
<attwidth Sync="TRUE">4</attwidth>
<atprecis Sync="TRUE">10</atprecis>
<attscale Sync="TRUE">0</attscale>
</attr>
<attr>
<attrlabl Sync="TRUE">COUNT_</attrlabl>
<attalias Sync="TRUE">COUNT_</attalias>
<attrtype Sync="TRUE">Integer</attrtype>
<attwidth Sync="TRUE">4</attwidth>
<atprecis Sync="TRUE">10</atprecis>
<attscale Sync="TRUE">0</attscale>
</attr>
</detailed>
</eainfo>
<distinfo>
<distrib>
<cntinfo>
<cntperp>
<cntper>SDVC Technical coordinator</cntper>
<cntorg>UW Spatial Data and Visualization Center</cntorg>
</cntperp>
<cntaddr>
<addrtype>mailing address</addrtype>
<address>Box 4008 University Station</address>
<city>Laramie</city>
<state>Wyoming</state>
<postal>82071</postal>
<country>USA</country>
</cntaddr>
<cntvoice>307-766-2532</cntvoice>
<cntemail>n/a</cntemail>
</cntinfo>
</distrib>
<distliab>
The distributor shall not be held liable for improper or
incorrect use of this data, based on the description of
appropriate/inappropriate used described in this metadata
document. The distributor makes no claims for the data's
suitability for other purposes.
It is strongly recommended that this data is directly acquired
from the distributor described above and not indirectly
through other sources which may have changed the data in some
way.
</distliab>
<stdorder>
<digform>
<digtinfo>
<formname>ARCE (Arc/Info export)</formname>
<formvern>7.0.4</formvern>
<formverd>1995</formverd>
<filedec>Export file was created using defaults, no compression</filedec>
<transize Sync="TRUE">15.798</transize>
<dssize Sync="TRUE">15.798</dssize>
</digtinfo>
<digtopt>
<onlinopt>
<computer>
<networka>
<networkr>ftp.sdvc.uwyo.edu or http://www.sdvc.uwyo.edu/clearinghouse</networkr>
</networka>
</computer>
<accinstr>
The data can be accessed online two different way:
by anonymous ftp or by the world wide web.
The anonymous ftp server is ftp.sdvc.uwyo.edu,
and the data is stored in the /pub/gis directory.
The WWW page is http://www.sdvc.uwyo.edu/clearinghouse.
Instructions are provided on-line for downloading and
importing the data.
</accinstr>
<oncomp>
Both the ftp and WWW server which this data is available
from is a Silicon Graphics Challenge server, running
the IRIX 6.2 UNIX operating system.
</oncomp>
</onlinopt>
</digtopt>
</digform>
<fees>
No fees are required for downloading the data that is on-line. Some
fees may be required to cover costs of tapes if data is required on tape media.
</fees>
</stdorder>
<resdesc Sync="TRUE">Downloadable Data</resdesc>
</distinfo>
<metainfo>
<metd Sync="TRUE">20110422</metd>
<metc>
<cntinfo>
<cntperp>
<cntper>Margo Berendsen</cntper>
</cntperp>
<cntaddr>
<addrtype>mailing address</addrtype>
<address>Box 4008 University Station</address>
<city>Laramie</city>
<state>Wyoming</state>
<postal>82071</postal>
<country>USA</country>
</cntaddr>
<cntvoice>307-766-2532</cntvoice>
<cntemail>meh@uwyo.edu</cntemail>
<cntorgp>
<cntper>REQUIRED: The person responsible for the metadata information.</cntper>
<cntorg>REQUIRED: The organization responsible for the metadata information.</cntorg>
</cntorgp>
</cntinfo>
</metc>
<metstdn Sync="TRUE">FGDC Content Standards for Digital Geospatial Metadata</metstdn>
<metstdv Sync="TRUE">FGDC-STD-001-1998</metstdv>
<langmeta Sync="TRUE">en</langmeta>
<mettc Sync="TRUE">local time</mettc>
<metextns>
<onlink Sync="TRUE">http://www.esri.com/metadata/esriprof80.html</onlink>
<metprof Sync="TRUE">ESRI Metadata Profile</metprof>
</metextns>
</metainfo>
This dataset represents Aquifer Sensitivity to surface contamination
for Wyoming at 1:100,000-scale. For further information about this layer
which was produced by the Wyoming Ground Water Vulnerability Mapping
Project refer to:
Hamerlinck, J.D., and Arneson, C.S., editors, 1998, Wyoming Ground Water
Vulnerability Assessment Handbook: Volume 1. Background, Model Development,
and Aquifer Sensitivity Analysis: Spatial Data and Visualization Center
Publication SDVC 98-01-1, University of Wyoming, Laramie, WY.
<purpose>
The purpose of this data layer is to provide citizens of Wyoming with
an overview of the relative sensitivity of their surficial aquifers to
contaminants applied on or near the land surface. It is intended as a
regional planning and educational tool.
</purpose>
<timeperd>
<timeinfo>
<sngdate>
<caldate>1998</caldate>
</sngdate>
</timeinfo>
<current>publication date</current>
</timeperd>
<status>
<progress>complete</progress>
<update>to be updated as new data becomes available</update>
</status>
<keywords>
<theme>
<themekey>Aquifer Sensitivity</themekey>
<themekey>Ground Water Vulnerability</themekey>
<themekey>aquifer pollution</themekey>
</theme>
<theme>
<themekt>none</themekt>
</theme>
<place>
<placekey>Wyoming</placekey>
</place>
<place>
<placekt>none</placekt>
</place>
</keywords>
<accconst>
May not be downloaded without also downloading the Ground
Water Vulnerability Assessment Handbook: Volume 1.
</accconst>
<useconst>
This data should not be used for analysis without first reading the
Wyoming Ground Water Vulnerability Assessment Handbook described above.
This data should not be used for analysis at a scale larger
than 1:100,000. Because updates to this dataset or the attached
metadata will occur without notice, this dataset may not be redistributed
or repackaged in any form without the express written consent of the
University of Wyoming Spatial Data and Visualization Center. Instead
it is recommended that additional users download the most current
version of the data from http://www.sdvc.uwyo.edu/clearinghouse.
</useconst>
<ptcontac>
<cntinfo>
<cntperp>
<cntper>Chris Arneson</cntper>
<cntorg>Spatial Data and Visualization Center</cntorg>
</cntperp>
<cntaddr>
<addrtype>mailing address</addrtype>
<address>Box 4008 University Station</address>
<city>Laramie</city>
<state>Wyoming</state>
<postal>82071</postal>
<country>USA</country>
</cntaddr>
<cntvoice>307-766-2532</cntvoice>
<cntemail>n/a</cntemail>
<hours>8:00 - 5:00 MST</hours>
</cntinfo>
</ptcontac>
<datacred/>
<native>
This dataset is a raster layer created using ARC/INFO GRID
version 7.1.2 on a SUN Microsystems UNIX computer.
</native>
Spatial_Organization &amp; Spatial Reference Sections
<Esri>
<MetaID>{C998290B-2CEE-4202-A068-CA0F171CB0AD}</MetaID>
<CreaDate>20011210</CreaDate>
<CreaTime>21312800</CreaTime>
<SyncOnce>FALSE</SyncOnce>
<SyncDate>20110422</SyncDate>
<SyncTime>08255200</SyncTime>
<ModDate>20110422</ModDate>
<ModTime>08255200</ModTime>
<DataProperties>
<lineage>
<Process Date="20110422" Time="082553" ToolSource="C:\Program Files\ArcGIS\ArcToolbox\Toolboxes\Data Management Tools.tbx\CopyRaster">CopyRaster I:\DEQ_PROJECTS\Spills\gw_sens "Database Connections\WDEQ@sde.sde\WDEQ.SDE.gw_sens" # # # NONE NONE #</Process>
<Process Date="20110426" Time="100408" ToolSource="C:\Program Files (x86)\ArcGIS\Desktop10.0\ArcToolbox\Toolboxes\Data Management Tools.tbx\BuildPyramids">BuildPyramids "Database Connections\WDEQ@SDE.sde\WDEQ.SDE.GW_SENS"</Process>
<Process Date="20110426" Time="100548" ToolSource="C:\Program Files (x86)\ArcGIS\Desktop10.0\ArcToolbox\Toolboxes\Data Management Tools.tbx\CalculateStatistics">CalculateStatistics "Database Connections\WDEQ@SDE.sde\WDEQ.SDE.GW_SENS" 1 1 #</Process>
</lineage>
</DataProperties>
</Esri>
<spdoinfo>
<direct Sync="TRUE">Raster</direct>
<rastinfo>
<rasttype Sync="TRUE">Pixel</rasttype>
<rowcount Sync="TRUE">4492</rowcount>
<colcount Sync="TRUE">5863</colcount>
<rastxsz Sync="TRUE">100.000000</rastxsz>
<rastysz Sync="TRUE">100.000000</rastysz>
<rastbpp Sync="TRUE">8</rastbpp>
<vrtcount Sync="TRUE">1</vrtcount>
<rastorig Sync="TRUE">Upper Left</rastorig>
<rastcmap Sync="TRUE">FALSE</rastcmap>
<rastcomp Sync="TRUE">LZ77</rastcomp>
<rastband Sync="TRUE">1</rastband>
<rastdtyp Sync="TRUE">pixel codes</rastdtyp>
<rastplyr Sync="TRUE">TRUE</rastplyr>
<rastifor Sync="TRUE">SDR</rastifor>
</rastinfo>
</spdoinfo>
<spref>
<horizsys>
<cordsysn>
<geogcsn Sync="TRUE">GCS_North_American_1983</geogcsn>
<projcsn Sync="TRUE">NAD_1983_Lambert_Conformal_Conic</projcsn>
</cordsysn>
<planar>
<planci>
<plance Sync="TRUE">row and column</plance>
<plandu Sync="TRUE">meters</plandu>
<coordrep>
<absres Sync="TRUE">100.000000</absres>
<ordres Sync="TRUE">100.000000</ordres>
</coordrep>
</planci>
<mapproj>
<mapprojn Sync="TRUE">Lambert Conformal Conic</mapprojn>
<lambertc>
<stdparll Sync="TRUE">33.000000</stdparll>
<stdparll Sync="TRUE">45.000000</stdparll>
<longcm Sync="TRUE">-107.500000</longcm>
<latprjo Sync="TRUE">41.000000</latprjo>
<feast Sync="TRUE">0.000000</feast>
<fnorth Sync="TRUE">0.000000</fnorth>
</lambertc>
</mapproj>
</planar>
<geodetic>
<horizdn Sync="TRUE">North American Datum of 1983</horizdn>
<ellips Sync="TRUE">Geodetic Reference System 80</ellips>
<semiaxis Sync="TRUE">6378137.000000</semiaxis>
<denflat Sync="TRUE">298.257222</denflat>
</geodetic>
</horizsys>
<vertdef>
<altsys>
<altenc Sync="TRUE">Explicit elevation coordinate included with horizontal coordinates</altenc>
<altres Sync="TRUE">1.000000</altres>
</altsys>
</vertdef>
</spref>
<dataIdInfo>
<envirDesc Sync="TRUE">Microsoft Windows 2000 Version 5.2 (Build 3790) Service Pack 2; ESRI ArcCatalog 9.3.1.3000</envirDesc>
<dataLang>
<languageCode Sync="TRUE" value="en"/>
</dataLang>
<idCitation>
<resTitle Sync="TRUE">WDEQ_GIS_SDE_GW_SENS</resTitle>
<presForm>
<PresFormCd Sync="TRUE" value="005"/>
</presForm>
</idCitation>
<spatRpType>
<SpatRepTypCd Sync="TRUE" value="002"/>
</spatRpType>
<dataExt>
<geoEle>
<GeoBndBox esriExtentType="native">
<westBL Sync="TRUE">-297283.625184</westBL>
<eastBL Sync="TRUE">289016.374816</eastBL>
<northBL Sync="TRUE">449021.847571</northBL>
<southBL Sync="TRUE">-178.152429</southBL>
<exTypeCode Sync="TRUE">1</exTypeCode>
</GeoBndBox>
</geoEle>
</dataExt>
<geoBox esriExtentType="decdegrees">
<westBL Sync="TRUE">-111.271351</westBL>
<eastBL Sync="TRUE">-103.833412</eastBL>
<northBL Sync="TRUE">45.053377</northBL>
<southBL Sync="TRUE">40.945851</southBL>
<exTypeCode Sync="TRUE">1</exTypeCode>
</geoBox>
<idAbs/>
<searchKeys>
<keyword>image service</keyword>
<keyword>wdeq</keyword>
<keyword>ground water sensitivity</keyword>
</searchKeys>
<idPurp>Image service of the Ground Water Sensitivity Raster dataset.</idPurp>
<idCredit/>
<resConst>
<Consts>
<useLimit/>
</Consts>
</resConst>
</dataIdInfo>
<mdLang>
<languageCode Sync="TRUE" value="en"/>
</mdLang>
<mdStanName Sync="TRUE">ISO 19115 Geographic Information - Metadata</mdStanName>
<mdStanVer Sync="TRUE">DIS_ESRI1.0</mdStanVer>
<mdChar>
<CharSetCd Sync="TRUE" value="004"/>
</mdChar>
<mdHrLv>
<ScopeCd Sync="TRUE" value="005"/>
</mdHrLv>
<mdHrLvName Sync="TRUE">dataset</mdHrLvName>
<distInfo>
<distributor>
<distorTran>
<onLineSrc>
<orDesc Sync="TRUE">002</orDesc>
<linkage Sync="TRUE">Server=159.238.120.157; Service=5151; Database=WDEQ; User=SDE; Version=SDE.UPDATE</linkage>
<protocol Sync="TRUE">ArcSDE Connection</protocol>
</onLineSrc>
</distorTran>
<distorFormat>
<formatName Sync="TRUE">SDE Raster Dataset</formatName>
</distorFormat>
</distributor>
</distInfo>
<refSysInfo>
<RefSystem>
<refSysID>
<identCode Sync="TRUE">NAD_1983_Lambert_Conformal_Conic</identCode>
</refSysID>
</RefSystem>
</refSysInfo>
<mdDateSt Sync="TRUE">20110422</mdDateSt>
</metadata>
