<?xml version="1.0" encoding="UTF-8" standalone="no"?>
<metadata>
<idinfo>
<citation>
<citeinfo>
<origin>U.S. Geological Survey EROS Data Center</origin>
<pubdate>1999</pubdate>
<title Sync="TRUE">WDEQ.SDE.wyo_dem_30m</title>
<pubinfo>
<pubplace>Sioux Falls, SD</pubplace>
<publish>U. S. Geological Survey</publish>
</pubinfo>
<onlink Sync="TRUE">Server=159.238.120.157; Service=5151; Database=WDEQ; User=SDE; Version=sde.DEFAULT</onlink>
<onlink Sync="TRUE">Server=159.238.120.157; Service=5151; Database=WDEQ; User=SDE; Version=sde.DEFAULT</onlink>
<ftname Sync="TRUE">WDEQ.SDE.wyo_dem_30m</ftname>
<geoform Sync="TRUE">SDE raster digital data</geoform>
</citeinfo>
</citation>
<descript>
<abstract>
The U.S. Geological Survey has developed a National Elevation
Dataset (NED). The NED is a seamless mosaic of best-available
elevation data. The 7.5-minute elevation data for the conterminous
United States are the primary initial source data. In addition to the
availability of complete 7.5-minute data, efficient processing
methods were developed to filter production artifacts in the existing
data, convert to the NAD83 datum, edge-match, and fill slivers of
missing data at quadrangle seams. One of the effects of the NED
processing steps is a much-improved base of elevation data for
calculating slope and hydrologic derivatives.
NED has a resolution of one arc-second (approximately 30 meters).
Please see the USGS NED website for a more detailed description
of the NED at: &lt;URL:http://edcnts12.cr.usgs.gov/ned/ned.html&gt;.
NED for Wyoming is distributed in 1:100,000-scale quadrangle
blocks (56 in Wyoming) and in Universal Transverse Mercator
projection, either zone 12 or zone 13, North American Datum
of 1983.
</abstract>
<purpose>
Geospatial elevation data are utilized by the scientific and resource
management communities for global change research, hydrologic
modeling, resource monitoring, mapping, and visualization
applications.
</purpose>
<langdata Sync="TRUE">en</langdata>
</descript>
<timeperd>
<timeinfo>
<rngdates>
<begdate>1979</begdate>
<enddate>1994</enddate>
</rngdates>
<sngdate>
<caldate>REQUIRED: The year (and optionally month, or month and day) for which the data set corresponds to the ground.</caldate>
</sngdate>
</timeinfo>
<current>publication date of source maps</current>
</timeperd>
<status>
<progress>Complete</progress>
<update>Irregular</update>
</status>
<spdom>
<bounding>
<westbc Sync="TRUE">-111.055369</westbc>
<eastbc Sync="TRUE">-104.052313</eastbc>
<northbc Sync="TRUE">45.005574</northbc>
<southbc Sync="TRUE">40.994740</southbc>
</bounding>
<lboundng>
<leftbc Sync="TRUE">-111.055369</leftbc>
<rightbc Sync="TRUE">-104.052313</rightbc>
<bottombc Sync="TRUE">40.994740</bottombc>
<topbc Sync="TRUE">45.005574</topbc>
</lboundng>
</spdom>
<keywords>
<theme>
<themekt>none</themekt>
<themekey>DEM</themekey>
<themekey>digital elevation model</themekey>
<themekey>digital terrain model</themekey>
<themekey>hypsography</themekey>
<themekey>altitude</themekey>
<themekey>height</themekey>
<themekey>contour line</themekey>
<themekey>digital contours</themekey>
</theme>
<place>
<placekt>none</placekt>
<placekey>Wyoming</placekey>
</place>
</keywords>
<accconst>None</accconst>
<useconst>None.</useconst>
<ptcontac>
<cntinfo>
<cntperp>
<cntper>Data Manager</cntper>
<cntorg>Spatial Data and Visualization Center</cntorg>
</cntperp>
<cntaddr>
<addrtype>mailing address</addrtype>
<address>Box 4008 University Station</address>
<city>Laramie</city>
<state>Wyoming</state>
<postal>82071</postal>
<country>USA</country>
</cntaddr>
<cntvoice>307-766-2751</cntvoice>
<cntemail>n/a</cntemail>
<hours>8:00 - 5:00 MST</hours>
</cntinfo>
</ptcontac>
<native Sync="TRUE">Microsoft Windows XP Version 5.1 (Build 2600) Service Pack 3; ESRI ArcCatalog 9.3.1.3500</native>
<natvform Sync="TRUE">SDE Raster Dataset</natvform>
</idinfo>
<dataqual>
<attracc>
<attraccr>
This information is based on published information about
Digital Elevation Models (DEM's) from which NED was assembled.
Published accuracy information on NED is not yet available.
The accuracy of a DEM is dependent upon the level of
detail of the source and the grid spacing used to sample
that source. The primary limiting factor for the level of
detail of the source is the scale of the source materials.
The proper selection of grid spacing determines the level
of content thatmay be extracted from a given source
during digitization.
</attraccr>
</attracc>
<logic>
This information is based on published information about
Digital Elevation Models (DEM's) from which NED was assembled.
Published accuracy information on NED is not yet available.
The fidelity of the relationships encoded in the data
structure of the DEM are automatically verified using
a USGS software program upon completion of the data
production cycle. The test verifies full compliance to the
DEM specification.
</logic>
<complete>
This information is based on published information about
Digital Elevation Models (DEM's) from which NED was assembled.
Published accuracy information on NED is not yet available.
See also the Process Steps for a description of methodology
in assembling NED.
The DEM is visually inspected for completeness on a DEM view
and edit system for the purpose of performing a final quality
control and if necessary edit of the DEM. The physical format
of each digital elevation model is validated for content
completeness and logical consistency during production quality
control and prior to archiving in the National Digital
Cartographic Data Base.
Due to the variable orientation of the quadrilateral in relation
to the Universal Transverse Mercator (UTM) projection grid,
profiles that pass within the bounds of the DEM quadrilateral,
may be void of elevation grid points, and are not represented
in the DEM. This condition occurs infrequently and is always the
first or last profile of the dataset.
Level 2 DEM: Level 2 DEM's may contain void areas due to
interruptions to contours in the source graphic or DLG. Void
area elevation grid posts are assigned the value of -32,767. In
addition, suspect elevation areas may exist in the DEM but are
not specifically identified. Suspect areas can be located on the
source graphic as a "disturbed surface, " symbolized by
contours overprinted with photorevised or other surface
patterns.
</complete>
<posacc>
<horizpa>
<horizpar>
This information is based on published information about
Digital Elevation Models (DEM's) from which NED was assembled.
Published accuracy information on NED is not yet available.
The horizontal accuracy of the DEM is expressed
as an estimated root mean square error (RMSE).
The estimate of the RMSE is based upon
horizontal accuracy tests of the DEM source
materials which are selected as equal to or less
than intended horizontal RMSE error of the DEM.
The testing of horizontal accuracy of the source
materials isaccomplished by comparing the
planimetric (X and Y) coordinates of well-defined
ground points with the coordinates of the same
points as determined from a source of higher
accuracy.
</horizpar>
</horizpa>
<vertacc>
<vertaccr>
This information is based on published information about
Digital Elevation Models (DEM's) from which NED was assembled.
Published accuracy information on NED is not yet available.
The vertical RMSE statistic is used to describe the
vertical accuracy of a DEM, encompassing both
random and systematic errors introduced during
production of the data. The RMSE is encoded in
element number 5 of record C of the DEM.
Accuracy is computed by a comparison of linear
interpolated elevations in the DEM with
corresponding known elevations. Test points are
well distributed, representative of the terrain, and
have true elevations with accuracies well within
the DEM accuracy criteria. Acceptable test points
include, in order of preference: field control,
aerotriangulated test points, spot elevations, or
points on contours from existing source maps
with appropriate contour interval. A minimum of
28 test points per DEM is required to compute the
RMSE, which is composed of a single test using 20
interior points and 8 edge points. Edge points are
those which are located along, at, or near the
quadrangle neatlines and are deemed by the
editor to be useful to evaluating the accuracy of
the edge of the DEM. Collection of test point data
and comparison of the DEM with the quadrangle
hypsography are conducted by the quality control
units within the USGS.
There are three types of DEM vertical errors;
blunder, systematic and random. These errors
are reduced in magnitude by editing but cannot be
completely eliminated. Blunder errors are those
errors of major proportions and are easily
identified and removed during interactive editing.
Systematic errors are those errors that follow
some fixed pattern and are introduced by data
collection procedures and systems. These error
artifacts include: vertical elevation shifts,
misinterpretation of terrain surface due to trees,
buildings and shadows, and fictitious ridges, tops,
benches or striations. Random errors result from
unknown or accidental causes.
DEM's are edited to correctly depict elevation
surfaces that correspond to water bodies of
specified size.
Level 1 DEM: A RMSE of 7-meters or less is the
desired accuracy standard. A RMSE of 15-meters
is the maximum permitted. A 7.5-minute DEM at
this level has an absolute elevation error
tolerance of 50 meters (approximately three
times the 15-meter RMSE) for blunder errors for
any grid node when compared to the true
elevation. Any array of points in the DEM can not
encompass more than 49 contiguous elevations
in error by more than 21 meters (three times the
7-meter RMSE). Systematic errors that are
within stated accuracy standards are tolerated.
Level 2 DEM: A vertical RMSE of one-half of the
contour interval, determined by the source map,
is the maximum permitted. Systematic errors
may not exceed one contour interval,
determined by the source map, is the maximum
permitted. Systematic errors may not exceed
one contour interval specified by the source
graphic. Level 2 DEMs have been processed or
smoothed for consistency and edited to remove
identifiable systematic errors.
</vertaccr>
</vertacc>
</posacc>
<lineage>
<srcinfo>
<srccite>
<citeinfo>
<origin>U.S. Geological Survey</origin>
<pubdate>1997</pubdate>
<title>digital contour lines</title>
<geoform>map</geoform>
<pubinfo>
<pubplace>Reston, VA</pubplace>
<publish>U.S. Geological Survey</publish>
</pubinfo>
</citeinfo>
</srccite>
<typesrc>magnetic tape</typesrc>
<srctime>
<timeinfo>
<rngdates>
<begdate>1979</begdate>
<enddate>1994</enddate>
</rngdates>
</timeinfo>
<srccurr>ground condition</srccurr>
</srctime>
<srccitea>CONTOUR1</srccitea>
<srccontr>
hypsographic vector information which is interpolated to regular
grid posts to form DEM grids in 30- by 30- meter UTM data spacing
within the 7.5 minute DEM bounds.
</srccontr>
</srcinfo>
<srcinfo>
<srccite>
<citeinfo>
<origin>U.S. Geological Survey</origin>
<pubdate>unknown</pubdate>
<title>photo ID number</title>
<geoform>remote-sensing image</geoform>
<pubinfo>
<pubplace>Reston, VA</pubplace>
<publish>U.S. Geological Survey</publish>
</pubinfo>
</citeinfo>
</srccite>
<typesrc>transparency</typesrc>
<srctime>
<timeinfo>
<rngdates>
<begdate>1979</begdate>
<enddate>1994</enddate>
</rngdates>
</timeinfo>
<srccurr>ground condition</srccurr>
</srctime>
<srccitea>PHOTO1</srccitea>
<srccontr>elevation values</srccontr>
</srcinfo>
<srcinfo>
<srccite>
<citeinfo>
<origin>U.S. Geological Survey</origin>
<pubdate>unknown</pubdate>
<title>project control</title>
<geoform>map</geoform>
<pubinfo>
<pubplace>Reston, VA</pubplace>
<publish>U.S. Geological Survey</publish>
</pubinfo>
</citeinfo>
</srccite>
<typesrc>magnetic tape</typesrc>
<srctime>
<timeinfo>
<rngdates>
<begdate>1979</begdate>
<enddate>1994</enddate>
</rngdates>
</timeinfo>
<srccurr>ground condition</srccurr>
</srctime>
<srccitea>CONTROL1</srccitea>
<srccontr>ground control points</srccontr>
</srcinfo>
<procstep>
<procdesc>
Please see the USGS NED methodology available at:
&lt;URL: http://edcnts12.cr.usgs.gov/ned/Methodology.htm&gt;
This information is based on published information about
Digital Elevation Models (DEM's) from which NED was assembled.
Published process information on NED is not yet available.
The production procedures, instrumentation,
hardware and software used in the collection of
standard U. S. Geological Survey (USGS) Digital
Elevation Models (DEM's) vary depending on
systems used at the contractor, cooperator or
National Mapping Division (NMD) production sites.
This process step describes, in general, the
process used in the production of standard USGS
DEM datasets.
Level 1 DEM: Level 1 DEM's are acquired
photogrammetrically by manual profiling or image
correlation techniques from National Aerial
Photography Program (NAPP) or equivalent
source photographs. Level 1 30-minute DEM's
may be derived or resampled from level 1 7.5-
minute DEM's.
Level 2 DEM: Level 2 DEM's are produced by
converting 1:24,000-scale and 1:100,000-scale
hypsography digital line graph (DLG) data to DEM
format or the DEM's are generated from vector
data derived from scanned raster files of USGS
1:24.000-scale or 1:100,000-scale map series
contour separates.
Level 3 DEM: Level 3 DEM's are created from DLG
data that has been vertically integrated with all
categories of hypsography, hydrography, ridge
line, break line, drain files and all vertical and
horizontal control networks. The production of
level 3 DEMs requires a system of logic
incorporated into the software interpolation
algorithms that clearly differentiates and
correctly interpolates between the various types
of terrain, data densities and data distribution.
Water body editing: DEM surface areas
corresponding to water bodies are flattened and
assigned map specified or estimated surface
elevations. Water body areas are defined as
ponds, lakes, and reservoirs that exceed 0.5
inches at map scale and double line drainage that
exceeds 0.25 inches at map scale. Water body
shorelines are derived either from a hypsographic
DLG or by interactive delineation from 1:24,000-
scale or 1:100,000-scale USGS map series.
Edge matching: DEM datasets within a project area
(consisting of a number of adjacent files) are edge
matched to assure terrain surface continuity
between files. Edge matching is the process of
correcting adjacent elevation values along common edges.
The objective of edge matching is to create more accurate
terrain representations by correcting the alignment of
ridges and drains, and overall topographic shaping within
an approximately 25-30 row or column grid post
zone on both edges.
Quality control: DEM's are viewed on interactive
editing systems to identify and correct blunder
and systematic errors. DEM's are verified for
physical format and logical consistency at the
production centers and before archiving in the
National Digital Cartographic Data Base (NDCDB)
utilizing the Digital Elevation Model Verification
System (DVS) software.
</procdesc>
<srcused>CONTOUR1, PHOTO1, CONTROL1</srcused>
<procdate>unknown</procdate>
</procstep>
<procstep>
<procdesc Sync="TRUE">Metadata imported.</procdesc>
<srcused Sync="TRUE">C:\DOCUME~1\RKIRKW~1\LOCALS~1\Temp\xml731.tmp</srcused>
<date Sync="TRUE">20050922</date>
<time Sync="TRUE">11160900</time>
</procstep>
</lineage>
</dataqual>
<spdoinfo>
<direct Sync="TRUE">Raster</direct>
<rastinfo>
<rasttype Sync="TRUE">Pixel</rasttype>
<rowcount Sync="TRUE">14439</rowcount>
<colcount Sync="TRUE">25211</colcount>
<rastxsz Sync="TRUE">0.000278</rastxsz>
<rastysz Sync="TRUE">0.000278</rastysz>
<rastbpp Sync="TRUE">32</rastbpp>
<vrtcount Sync="TRUE">1</vrtcount>
<rastorig Sync="TRUE">Upper Left</rastorig>
<rastcmap Sync="TRUE">FALSE</rastcmap>
<rastcomp Sync="TRUE">LZ77</rastcomp>
<rastband Sync="TRUE">1</rastband>
<rastdtyp Sync="TRUE">pixel codes</rastdtyp>
<rastplyr Sync="TRUE">TRUE</rastplyr>
<rastifor Sync="TRUE">SDR</rastifor>
</rastinfo>
</spdoinfo>
<spref>
<horizsys>
<geodetic>
<horizdn Sync="TRUE">North American Datum of 1983</horizdn>
<ellips Sync="TRUE">Geodetic Reference System 80</ellips>
<semiaxis Sync="TRUE">6378137.000000</semiaxis>
<denflat Sync="TRUE">298.257222</denflat>
</geodetic>
<cordsysn>
<geogcsn Sync="TRUE">GCS_North_American_1983</geogcsn>
</cordsysn>
<geograph>
<geogunit Sync="TRUE">Decimal degrees</geogunit>
<latres Sync="TRUE">0.000000</latres>
<longres Sync="TRUE">0.000000</longres>
</geograph>
<planar>
<planci>
<plance Sync="TRUE">row and column</plance>
<coordrep>
<absres Sync="TRUE">0.000278</absres>
<ordres Sync="TRUE">0.000278</ordres>
</coordrep>
</planci>
</planar>
</horizsys>
<vertdef>
<altsys>
<altenc Sync="TRUE">Explicit elevation coordinate included with horizontal coordinates</altenc>
<altres Sync="TRUE">1.000000</altres>
</altsys>
</vertdef>
</spref>
<eainfo>
<overview>
<eaover>
The digital elevation model is composed of a 6-
character integer raster representing a gridded form of
a topographic map hypsography overlay, with a value in meters.
In Wyoming, elevations range from approximately 900-4200 meters.
</eaover>
<eadetcit>
U.S.Department of the Interior, U.S. Geological Survey, 1992,
Standards for digital elevation models: Reston, VA,
</eadetcit>
</overview>
</eainfo>
<distinfo>
<distrib>
<cntinfo>
<cntperp>
<cntper>Data Manager</cntper>
<cntorg>Spatial Data and Visualization Center</cntorg>
</cntperp>
<cntaddr>
<addrtype>mailing address</addrtype>
<address>Box 4008 University Station</address>
<city>Laramie</city>
<state>Wyoming</state>
<postal>82071</postal>
<country>USA</country>
</cntaddr>
<cntvoice>307-766-2751</cntvoice>
<cntemail>n/a</cntemail>
</cntinfo>
</distrib>
<distliab>
The distributor shall not be held liable for improper or
incorrect use of this data, based on the description of
appropriate/inappropriate used described in this metadata
document.
</distliab>
<stdorder>
<digform>
<digtinfo>
<formname>ARCE (Arc/Info export)</formname>
<formvern>7.0.4</formvern>
<formverd>1995</formverd>
<filedec>Export file was created using defaults, no compression</filedec>
<transize Sync="TRUE">1399.487</transize>
<dssize Sync="TRUE">1399.487</dssize>
</digtinfo>
<digtopt>
<onlinopt>
<computer>
<networka>
<networkr>ftp.sdvc.uwyo.edu or http://www.sdvc.uwyo.edu/clearinghouse</networkr>
</networka>
</computer>
<accinstr>http://www.sdvc.uwyo.edu/clearinghouse/howto.html</accinstr>
<oncomp>
Both the ftp and WWW server which this data is available
from is a Silicon Graphics Challenge server, running
the IRIX 6.2 UNIX operating system.
</oncomp>
</onlinopt>
</digtopt>
</digform>
<fees>
No fees are required for downloading the data that is on-line.
Some fees may be required to cover costs of tapes if data is
required on tape media.
</fees>
</stdorder>
<resdesc Sync="TRUE">Downloadable Data</resdesc>
</distinfo>
<metainfo>
<metd Sync="TRUE">20100601</metd>
<metc>
<cntinfo>
<cntperp>
<cntper>Margo Berendsen</cntper>
</cntperp>
<cntaddr>
<addrtype>mailing address</addrtype>
<address>Box 4008 University Station</address>
<city>Laramie</city>
<state>Wyoming</state>
<postal>82071</postal>
<country>USA</country>
</cntaddr>
<cntvoice>307-766-2751</cntvoice>
<cntemail>meh@uwyo.edu</cntemail>
<cntorgp>
<cntper>REQUIRED: The person responsible for the metadata information.</cntper>
<cntorg>REQUIRED: The organization responsible for the metadata information.</cntorg>
</cntorgp>
</cntinfo>
</metc>
<metstdn Sync="TRUE">FGDC Content Standards for Digital Geospatial Metadata</metstdn>
<metstdv Sync="TRUE">FGDC-STD-001-1998</metstdv>
<langmeta Sync="TRUE">en</langmeta>
<mettc Sync="TRUE">local time</mettc>
<metextns>
<onlink Sync="TRUE">http://www.esri.com/metadata/esriprof80.html</onlink>
<metprof Sync="TRUE">ESRI Metadata Profile</metprof>
</metextns>
</metainfo>
<Esri>
<MetaID>{343DC63B-D45D-4E9F-B012-01E060F82209}</MetaID>
<CreaDate>20050922</CreaDate>
<CreaTime>11160900</CreaTime>
<SyncOnce>FALSE</SyncOnce>
<SyncDate>20100601</SyncDate>
<SyncTime>11103100</SyncTime>
<ModDate>20100601</ModDate>
<ModTime>11103100</ModTime>
<DataProperties>
<lineage>
<Process Date="20100223" Time="125531" ToolSource="C:\Program Files\ArcGIS\ArcToolbox\Toolboxes\Data Management Tools.tbx\CopyRaster">CopyRaster P:\NSR\GIS\ArcViewMaps\Monitoring\Network_Plan_RK\DEM\wyo_dem P:\NSR\GIS\ArcViewMaps\Monitoring\Network_Plan_RK\DEM\DEM_30M.gdb\wyo_dem # # # NONE NONE #</Process>
<Process Date="20100601" Time="111126" ToolSource="C:\Program Files\ArcGIS\ArcToolbox\Toolboxes\Data Management Tools.tbx\CopyRaster">CopyRaster "P:\AQRM Program\Monitoring\Mapping\DEM\Hillshade.gdb\wyo_dem_30m" "Database Connections\WDEQ_SDE.sde\WDEQ.SDE.wyo_dem_30m" # # # NONE NONE #</Process>
<Process Date="20110426" Time="101039" ToolSource="C:\Program Files (x86)\ArcGIS\Desktop10.0\ArcToolbox\Toolboxes\Data Management Tools.tbx\BuildPyramids">BuildPyramids "Database Connections\WDEQ@SDE.sde\WDEQ.SDE.WYO_DEM_30M"</Process>
<Process Date="20110426" Time="101523" ToolSource="C:\Program Files (x86)\ArcGIS\Desktop10.0\ArcToolbox\Toolboxes\Data Management Tools.tbx\CalculateStatistics">CalculateStatistics "Database Connections\WDEQ@SDE.sde\WDEQ.SDE.WYO_DEM_30M" 1 1 #</Process>
</lineage>
</DataProperties>
</Esri>
<dataIdInfo>
<envirDesc Sync="TRUE">Microsoft Windows XP Version 5.1 (Build 2600) Service Pack 3; ESRI ArcCatalog 9.3.1.3500</envirDesc>
<dataLang>
<languageCode Sync="TRUE" value="en"/>
</dataLang>
<idCitation>
<resTitle Sync="TRUE">WYO_DEM_30M</resTitle>
<presForm>
<PresFormCd Sync="TRUE" value="005"/>
</presForm>
</idCitation>
<spatRpType>
<SpatRepTypCd Sync="TRUE" value="002"/>
</spatRpType>
<dataExt>
<geoEle>
<GeoBndBox esriExtentType="native">
<westBL Sync="TRUE">-111.055369</westBL>
<eastBL Sync="TRUE">-104.052313</eastBL>
<northBL Sync="TRUE">45.005574</northBL>
<southBL Sync="TRUE">40.99474</southBL>
<exTypeCode Sync="TRUE">1</exTypeCode>
</GeoBndBox>
</geoEle>
</dataExt>
<geoBox esriExtentType="decdegrees">
<westBL Sync="TRUE">-111.055369</westBL>
<eastBL Sync="TRUE">-104.052313</eastBL>
<northBL Sync="TRUE">45.005574</northBL>
<southBL Sync="TRUE">40.99474</southBL>
<exTypeCode Sync="TRUE">1</exTypeCode>
</geoBox>
<idAbs/>
<searchKeys>
<keyword>image service</keyword>
<keyword>wdeq</keyword>
<keyword>30M DEM</keyword>
</searchKeys>
<idPurp>Image service of the 30M DEM.</idPurp>
<idCredit/>
<resConst>
<Consts>
<useLimit/>
</Consts>
</resConst>
</dataIdInfo>
<mdLang>
<languageCode Sync="TRUE" value="en"/>
</mdLang>
<mdStanName Sync="TRUE">ISO 19115 Geographic Information - Metadata</mdStanName>
<mdStanVer Sync="TRUE">DIS_ESRI1.0</mdStanVer>
<mdChar>
<CharSetCd Sync="TRUE" value="004"/>
</mdChar>
<mdHrLv>
<ScopeCd Sync="TRUE" value="005"/>
</mdHrLv>
<mdHrLvName Sync="TRUE">dataset</mdHrLvName>
<distInfo>
<distributor>
<distorTran>
<onLineSrc>
<orDesc Sync="TRUE">002</orDesc>
<linkage Sync="TRUE">Server=159.238.120.157; Service=5151; Database=WDEQ; User=SDE; Version=sde.DEFAULT</linkage>
<protocol Sync="TRUE">ArcSDE Connection</protocol>
</onLineSrc>
<transSize Sync="TRUE">1399.487</transSize>
</distorTran>
<distorFormat>
<formatName Sync="TRUE">SDE Raster Dataset</formatName>
</distorFormat>
</distributor>
</distInfo>
<refSysInfo>
<RefSystem>
<refSysID>
