{
 "currentVersion": 11.1,
 "serviceDescription": "Image_Services/WYO_DEM_30M",
 "name": "Image_Services/WYO_DEM_30M",
 "description": "",
 "extent": {
  "xmin": -111.0553689453,
  "ymin": 40.994740430893934,
  "xmax": -104.05231338927312,
  "ymax": 45.00557376449721,
  "spatialReference": {
   "wkid": 4269,
   "latestWkid": 4269
  }
 },
 "initialExtent": {
  "xmin": -111.0553689453,
  "ymin": 40.994740430893934,
  "xmax": -104.05231338927312,
  "ymax": 45.00557376449721,
  "spatialReference": {
   "wkid": 4269,
   "latestWkid": 4269
  }
 },
 "fullExtent": {
  "xmin": -111.0553689453,
  "ymin": 40.994740430893934,
  "xmax": -104.05231338927312,
  "ymax": 45.00557376449721,
  "spatialReference": {
   "wkid": 4269,
   "latestWkid": 4269
  }
 },
 "sortableFields": "",
 "bandCount": 1,
 "pixelType": "F32",
 "minValues": [
  7.402165412902832
 ],
 "maxValues": [
  4210.32861328125
 ],
 "meanValues": [
  1947.9217197486971
 ],
 "stdvValues": [
  497.70043286689133
 ],
 "hasMultidimensions": false,
 "pixelSizeX": 2.7777777779647295E-4,
 "pixelSizeY": 2.7777777779647295E-4,
 "datasetFormat": "SDR",
 "uncompressedSize": 1456086516,
 "blockWidth": 128,
 "blockHeight": 128,
 "compressionType": "LZ77",
 "bandNames": [
  "Band_1"
 ],
 "allowCopy": true,
 "allowAnalysis": true,
 "itemAccess": false,
 "minPixelSize": 0,
 "maxPixelSize": 0,
 "copyrightText": "",
 "serviceDataType": "esriImageServiceDataTypeElevation",
 "serviceSourceType": "esriImageServiceSourceTypeDataset",
 "objectIdField": "",
 "fields": [],
 "capabilities": "Image,Metadata,Mensuration",
 "defaultMosaicMethod": "Center",
 "allowedMosaicMethods": "",
 "sortField": "",
 "sortValue": null,
 "sortAscending": true,
 "mosaicOperator": "First",
 "defaultCompressionQuality": 75,
 "defaultResamplingMethod": "Bilinear",
 "maxImageHeight": 4100,
 "maxImageWidth": 15000,
 "allowRasterFunction": true,
 "rasterFunctionInfos": [
  {
   "name": "None",
   "description": "",
   "help": ""
  }
 ],
 "rasterTypeInfos": [
  {
   "name": "Raster Dataset",
   "description": "Supports all ArcGIS Raster Datasets",
   "help": ""
  }
 ],
 "mensurationCapabilities": "Basic",
 "hasHistograms": true,
 "hasColormap": false,
 "hasRasterAttributeTable": false,
 "minScale": 0,
 "maxScale": 0,
 "exportTilesAllowed": false,
 "supportsStatistics": false,
 "supportsAdvancedQueries": false,
 "editFieldsInfo": null,
 "ownershipBasedAccessControlForRasters": null,
 "allowComputeTiePoints": false,
 "useStandardizedQueries": true,
 "advancedQueryCapabilities": {
  "useStandardizedQueries": true,
  "supportsStatistics": false,
  "supportsOrderBy": false,
  "supportsDistinct": false,
  "supportsPagination": false
 },
 "spatialReference": {
  "wkid": 4269,
  "latestWkid": 4269
 }
}
