View In:
ArcGIS JavaScript
ArcGIS Online Map Viewer
ArcGIS Earth
Service Description: Image_Services/HILLSHADE_30M
Name: Image_Services/HILLSHADE_30M
Description:
Single Fused Map Cache: false
Extent:
XMin: -9448.99491023831
YMin: 4538175.022653392
XMax: 579688.7555115717
YMax: 5001466.614168813
Spatial Reference: 26913
(26913)
Initial Extent:
XMin: -9448.99491023831
YMin: 4538175.022653392
XMax: 579688.7555115717
YMax: 5001466.614168813
Spatial Reference: 26913
(26913)
Full Extent:
XMin: -9448.99491023831
YMin: 4538175.022653392
XMax: 579688.7555115717
YMax: 5001466.614168813
Spatial Reference: 26913
(26913)
Pixel Size X: 26.13627391960472
Pixel Size Y: 26.13627392053604
Band Count: 1
Pixel Type: U8
RasterFunction Infos: {"rasterFunctionInfos": [{
"name": "None",
"description": "",
"help": ""
}]}
Mensuration Capabilities: Basic
Has Histograms: true
Has Colormap: false
Has Multi Dimensions : false
Rendering Rule:
Min Scale: 0
Max Scale: 0
Copyright Text:
Service Data Type: esriImageServiceDataTypeGeneric
Min Values: 0
Max Values: 254
Mean Values: 177.0808615248558
Standard Deviation Values: 23.694517862098337
Object ID Field:
Fields:
None
Default Mosaic Method: Center
Allowed Mosaic Methods:
SortField:
SortValue: null
Mosaic Operator: First
Default Compression Quality: 75
Default Resampling Method: Bilinear
Max Record Count: null
Max Image Height: 4100
Max Image Width: 15000
Max Download Image Count: null
Max Mosaic Image Count: null
Allow Raster Function: true
Allow Copy: true
Allow Analysis: true
Allow Compute TiePoints: false
Supports Statistics: false
Supports Advanced Queries: false
Use StandardizedQueries: true
Raster Type Infos:
Name: Raster Dataset
Description: Supports all ArcGIS Raster Datasets
Help:
Has Raster Attribute Table: false
Edit Fields Info: null
Ownership Based AccessControl For Rasters: null
Child Resources:
Info
Histograms
Statistics
Key Properties
Legend
Raster Function Infos
Supported Operations:
Export Image
Identify
Measure
Compute Histograms
Compute Statistics Histograms
Get Samples
Compute Class Statistics
Query Boundary
Compute Pixel Location
Compute Angles
Validate
Project