View In:
ArcGIS JavaScript
ArcGIS Online Map Viewer
ArcGIS Earth
Service Description: Image_Services/WYO_DEM_30M
Name: Image_Services/WYO_DEM_30M
Description:
Single Fused Map Cache: false
Extent:
XMin: -111.0553689453
YMin: 40.994740430893934
XMax: -104.05231338927312
YMax: 45.00557376449721
Spatial Reference: 4269
(4269)
Initial Extent:
XMin: -111.0553689453
YMin: 40.994740430893934
XMax: -104.05231338927312
YMax: 45.00557376449721
Spatial Reference: 4269
(4269)
Full Extent:
XMin: -111.0553689453
YMin: 40.994740430893934
XMax: -104.05231338927312
YMax: 45.00557376449721
Spatial Reference: 4269
(4269)
Pixel Size X: 2.7777777779647295E-4
Pixel Size Y: 2.7777777779647295E-4
Band Count: 1
Pixel Type: F32
RasterFunction Infos: {"rasterFunctionInfos": [{
"name": "None",
"description": "",
"help": ""
}]}
Mensuration Capabilities: Basic
Has Histograms: true
Has Colormap: false
Has Multi Dimensions : false
Rendering Rule:
Min Scale: 0
Max Scale: 0
Copyright Text:
Service Data Type: esriImageServiceDataTypeElevation
Min Values: 7.402165412902832
Max Values: 4210.32861328125
Mean Values: 1947.9217197486971
Standard Deviation Values: 497.70043286689133
Object ID Field:
Fields:
None
Default Mosaic Method: Center
Allowed Mosaic Methods:
SortField:
SortValue: null
Mosaic Operator: First
Default Compression Quality: 75
Default Resampling Method: Bilinear
Max Record Count: null
Max Image Height: 4100
Max Image Width: 15000
Max Download Image Count: null
Max Mosaic Image Count: null
Allow Raster Function: true
Allow Copy: true
Allow Analysis: true
Allow Compute TiePoints: false
Supports Statistics: false
Supports Advanced Queries: false
Use StandardizedQueries: true
Raster Type Infos:
Name: Raster Dataset
Description: Supports all ArcGIS Raster Datasets
Help:
Has Raster Attribute Table: false
Edit Fields Info: null
Ownership Based AccessControl For Rasters: null
Child Resources:
Info
Histograms
Statistics
Key Properties
Legend
Raster Function Infos
Supported Operations:
Export Image
Identify
Measure
Compute Histograms
Compute Statistics Histograms
Get Samples
Compute Class Statistics
Query Boundary
Compute Pixel Location
Compute Angles
Validate
Project
Calculate Volume